BEGIN:VCALENDAR
VERSION:2.0
PRODID:-//HUB 2grow - ECPv6.7.0//NONSGML v1.0//EN
CALSCALE:GREGORIAN
METHOD:PUBLISH
X-WR-CALNAME:HUB 2grow
X-ORIGINAL-URL:https://www.hub2grow.gr
X-WR-CALDESC:Events for HUB 2grow
REFRESH-INTERVAL;VALUE=DURATION:PT1H
X-Robots-Tag:noindex
X-PUBLISHED-TTL:PT1H
BEGIN:VTIMEZONE
TZID:Europe/Athens
BEGIN:DAYLIGHT
TZOFFSETFROM:+0200
TZOFFSETTO:+0300
TZNAME:EEST
DTSTART:20240331T010000
END:DAYLIGHT
BEGIN:STANDARD
TZOFFSETFROM:+0300
TZOFFSETTO:+0200
TZNAME:EET
DTSTART:20241027T010000
END:STANDARD
END:VTIMEZONE
BEGIN:VEVENT
DTSTART;TZID=Europe/Athens:20240916T163000
DTEND;TZID=Europe/Athens:20240916T183000
DTSTAMP:20260422T210907
CREATED:20240502T134127Z
LAST-MODIFIED:20240502T134127Z
UID:3531-1726504200-1726511400@www.hub2grow.gr
SUMMARY:Meet2grow: NanoLearn Insights
DESCRIPTION:[vc_row][vc_column width=”1/2″][vc_column_text]Τα Meet2grow είναι οι μηνιαίες συναντήσεις επαγγελματιών HR και L&D στο γραφείο της Solutions 2grow στην Αθήνα. \nΤι κάνουμε σε αυτές τις συναντήσεις:\n1. Games2grow\nΚάθε φορά ένας εκπαιδευτής μας βάζει σε μία διαδραστική δραστηριότητα που μας βοηθά να μάθουμε κάτι πολύ χρήσιμο σχετικά με την προσωπική μας ανάπτυξη ή τη δουλειά μας ως HR και L&D. \n2. Fun2grow\nΜαθαίνουμε μία τεχνική\, που έχει σχέση με τη χαρά τη θετική διάθεση και την ενέργεια\, που μπορούμε να εφαρμόσουμε στην καθημερινή ζωή και στη δουλειά μας. \n3. Peer2grow\nΓνωρίζουμε συναδέλφους και ανταλλάσσουμε απόψεις.[/vc_column_text][vc_column_text] \nΤι θα μάθουμε\nΘέμα αυτής της συνάντησης:\nΣτη συνάντηση αυτή θα εξερευνήσουμε τον συναρπαστικό κόσμο της νανομάθησης – την τέχνη της παροχής στοχευμένων μαθησιακών εμπειριών σε μορφή bite-sized\, οι οποίες έχουν ισχυρό αντίκτυπο. \nΘα εμβαθύνουμε σε καινοτόμες στρατηγικές και βέλτιστες πρακτικές για το σχεδιασμό και την υλοποίηση πρωτοβουλιών nanolearning που προωθούν τη δέσμευση και τη διατήρηση της γνώσης. \nΘα εξασκηθούμε στο να επιλέγουμε υλικό κατάλληλο για αυτόν τον τρόπο μάθησης και θα ανταλλάξουμε εμπειρίες για στρατηγικές μάθησης που αυξάνουν το εσωτερικό κίνητρο.[/vc_column_text][/vc_column][vc_column width=”1/2″][vc_empty_space][vc_progress_bar values=”%5B%7B%22label%22%3A%22Soft%20Skills%22%2C%22value%22%3A%2270%22%2C%22color%22%3A%22purple%22%7D%2C%7B%22label%22%3A%22Productivity%20%20%20%20%20%20%20%22%2C%22value%22%3A%22100%22%2C%22color%22%3A%22bar_turquoise%22%7D%2C%7B%22label%22%3A%22Engagement%20%20%20%20%20%20%22%2C%22value%22%3A%22100%22%2C%22color%22%3A%22bar_orange%22%7D%2C%7B%22label%22%3A%22Culture%20%20%20%20%20%20%20%20%20%20%20%20%20%22%2C%22value%22%3A%2270%22%2C%22color%22%3A%22vista-blue%22%7D%5D” css_animation=”fadeIn” units=”%”][vc_empty_space][vc_column_text]Ημερομηνία: 16/09/2024\nΏρα: 16:30 – 18:30\nΔιάρκεια: 2 ώρες\nΧώρος διεξαγωγής: Αμερικής 20\, 10671\, Αθήνα\nΣυμμετοχή: Δωρεάν\nΑριθμός θέσεων: 10 \nΔηλώστε έγκαιρα συμμετοχή\, γιατί ο αριθμός των θέσεων είναι περιορισμένος.[/vc_column_text][/vc_column][/vc_row][vc_row][vc_column][vc_column_text] \nΦόρμα συμμετοχής\nΣυμπληρώστε τα στοιχεία σας και δηλώστε συμμετοχή[/vc_column_text][vc_empty_space]\n\n  \n\n\n\n\n\n\n\n\n\n\n\n\n\n\n\n						Διαθέσιμες θέσεις: 10 θέσεις.			\n\n \n  \n \n  \n \n  \n \n  \n \n  \n \nΧρησιμοποιώντας αυτή τη φόρμα συμμετοχής συμφωνείτε με την αποθήκευση και διαχείριση των δεδομένων σας από αυτόν τον ιστότοπο.\n \nΣτην Hub 2grow δεσμευόμαστε να προστατεύουμε το απόρρητό σας\, σύμφωνα με την Πολιτική Απορρήτου μας.\n \n\n \n\n\n[/vc_column][/vc_row][vc_row][vc_column]ΣυντελεστέςΡιάννα ΧάιταCEO at Solutions 2Grow  | Paris - AthensΑναστασία ΜαυράκηFuture Ready and L&D Leader at Solutions 2Grow [/vc_column][/vc_row]
URL:https://www.hub2grow.gr/event/meet2grow-nanolearn-insights/
CATEGORIES:Meet 2Grow
ATTACH;FMTTYPE=image/jpeg:https://www.hub2grow.gr/wp-content/uploads/2024/05/meet2grow.jpg
END:VEVENT
END:VCALENDAR